BEGIN:VCALENDAR
VERSION:2.0
PRODID:-//Musikverein Hemmendorf - ECPv6.15.20//NONSGML v1.0//EN
CALSCALE:GREGORIAN
METHOD:PUBLISH
X-ORIGINAL-URL:https://www.mv-hemmendorf.de
X-WR-CALDESC:Veranstaltungen für Musikverein Hemmendorf
REFRESH-INTERVAL;VALUE=DURATION:PT1H
X-Robots-Tag:noindex
X-PUBLISHED-TTL:PT1H
BEGIN:VTIMEZONE
TZID:Europe/Berlin
BEGIN:DAYLIGHT
TZOFFSETFROM:+0100
TZOFFSETTO:+0200
TZNAME:CEST
DTSTART:20250330T010000
END:DAYLIGHT
BEGIN:STANDARD
TZOFFSETFROM:+0200
TZOFFSETTO:+0100
TZNAME:CET
DTSTART:20251026T010000
END:STANDARD
BEGIN:DAYLIGHT
TZOFFSETFROM:+0100
TZOFFSETTO:+0200
TZNAME:CEST
DTSTART:20260329T010000
END:DAYLIGHT
BEGIN:STANDARD
TZOFFSETFROM:+0200
TZOFFSETTO:+0100
TZNAME:CET
DTSTART:20261025T010000
END:STANDARD
BEGIN:DAYLIGHT
TZOFFSETFROM:+0100
TZOFFSETTO:+0200
TZNAME:CEST
DTSTART:20270328T010000
END:DAYLIGHT
BEGIN:STANDARD
TZOFFSETFROM:+0200
TZOFFSETTO:+0100
TZNAME:CET
DTSTART:20271031T010000
END:STANDARD
END:VTIMEZONE
BEGIN:VEVENT
DTSTART;TZID=Europe/Berlin:20260614T163000
DTEND;TZID=Europe/Berlin:20260614T183000
DTSTAMP:20260420T191939
CREATED:20260113T124905Z
LAST-MODIFIED:20260113T124913Z
UID:1156-1781454600-1781461800@www.mv-hemmendorf.de
SUMMARY:Auftritt Bietenhausen
DESCRIPTION:
URL:https://www.mv-hemmendorf.de/event/auftritt-bietenhausen/
LOCATION:Bietenhausen\, Rangendingen\, 72414
CATEGORIES:Auftritt
END:VEVENT
END:VCALENDAR