BEGIN:VCALENDAR
VERSION:2.0
PRODID:-//Musikverein Hemmendorf - ECPv6.15.20//NONSGML v1.0//EN
CALSCALE:GREGORIAN
METHOD:PUBLISH
X-WR-CALNAME:Musikverein Hemmendorf
X-ORIGINAL-URL:https://www.mv-hemmendorf.de
X-WR-CALDESC:Veranstaltungen für Musikverein Hemmendorf
REFRESH-INTERVAL;VALUE=DURATION:PT1H
X-Robots-Tag:noindex
X-PUBLISHED-TTL:PT1H
BEGIN:VTIMEZONE
TZID:Europe/Berlin
BEGIN:DAYLIGHT
TZOFFSETFROM:+0100
TZOFFSETTO:+0200
TZNAME:CEST
DTSTART:20250330T010000
END:DAYLIGHT
BEGIN:STANDARD
TZOFFSETFROM:+0200
TZOFFSETTO:+0100
TZNAME:CET
DTSTART:20251026T010000
END:STANDARD
BEGIN:DAYLIGHT
TZOFFSETFROM:+0100
TZOFFSETTO:+0200
TZNAME:CEST
DTSTART:20260329T010000
END:DAYLIGHT
BEGIN:STANDARD
TZOFFSETFROM:+0200
TZOFFSETTO:+0100
TZNAME:CET
DTSTART:20261025T010000
END:STANDARD
BEGIN:DAYLIGHT
TZOFFSETFROM:+0100
TZOFFSETTO:+0200
TZNAME:CEST
DTSTART:20270328T010000
END:DAYLIGHT
BEGIN:STANDARD
TZOFFSETFROM:+0200
TZOFFSETTO:+0100
TZNAME:CET
DTSTART:20271031T010000
END:STANDARD
END:VTIMEZONE
BEGIN:VEVENT
DTSTART;TZID=Europe/Berlin:20260430T173000
DTEND;TZID=Europe/Berlin:20260430T180000
DTSTAMP:20260420T160643
CREATED:20260324T074259Z
LAST-MODIFIED:20260324T074309Z
UID:1232-1777570200-1777572000@www.mv-hemmendorf.de
SUMMARY:Maibaum stellen
DESCRIPTION:Mit Auftritt des Musikvereins.
URL:https://www.mv-hemmendorf.de/event/maibaum-stellen/
LOCATION:Hemmendorf\, Rottenburg\, 72108\, Germany
CATEGORIES:Auftritt
END:VEVENT
END:VCALENDAR