BEGIN:VCALENDAR
VERSION:2.0
PRODID:-//Musikverein Hemmendorf - ECPv6.15.20//NONSGML v1.0//EN
CALSCALE:GREGORIAN
METHOD:PUBLISH
X-WR-CALNAME:Musikverein Hemmendorf
X-ORIGINAL-URL:https://www.mv-hemmendorf.de
X-WR-CALDESC:Veranstaltungen für Musikverein Hemmendorf
REFRESH-INTERVAL;VALUE=DURATION:PT1H
X-Robots-Tag:noindex
X-PUBLISHED-TTL:PT1H
BEGIN:VTIMEZONE
TZID:Europe/Berlin
BEGIN:DAYLIGHT
TZOFFSETFROM:+0100
TZOFFSETTO:+0200
TZNAME:CEST
DTSTART:20240331T010000
END:DAYLIGHT
BEGIN:STANDARD
TZOFFSETFROM:+0200
TZOFFSETTO:+0100
TZNAME:CET
DTSTART:20241027T010000
END:STANDARD
BEGIN:DAYLIGHT
TZOFFSETFROM:+0100
TZOFFSETTO:+0200
TZNAME:CEST
DTSTART:20250330T010000
END:DAYLIGHT
BEGIN:STANDARD
TZOFFSETFROM:+0200
TZOFFSETTO:+0100
TZNAME:CET
DTSTART:20251026T010000
END:STANDARD
BEGIN:DAYLIGHT
TZOFFSETFROM:+0100
TZOFFSETTO:+0200
TZNAME:CEST
DTSTART:20260329T010000
END:DAYLIGHT
BEGIN:STANDARD
TZOFFSETFROM:+0200
TZOFFSETTO:+0100
TZNAME:CET
DTSTART:20261025T010000
END:STANDARD
END:VTIMEZONE
BEGIN:VEVENT
DTSTART;TZID=Europe/Berlin:20251107T200000
DTEND;TZID=Europe/Berlin:20251109T170000
DTSTAMP:20260420T205720
CREATED:20250718T165706Z
LAST-MODIFIED:20250718T165715Z
UID:1036-1762545600-1762707600@www.mv-hemmendorf.de
SUMMARY:Probewochenende
DESCRIPTION:
URL:https://www.mv-hemmendorf.de/event/probewochenende/
END:VEVENT
BEGIN:VEVENT
DTSTART;TZID=Europe/Berlin:20251115T150000
DTEND;TZID=Europe/Berlin:20251115T170000
DTSTAMP:20260420T205720
CREATED:20250718T165942Z
LAST-MODIFIED:20250718T165958Z
UID:1038-1763218800-1763226000@www.mv-hemmendorf.de
SUMMARY:Einweihung Sporthalle Hemmendorf
DESCRIPTION:Mit Auftritt des MVH
URL:https://www.mv-hemmendorf.de/event/einweihung-sporthalle-hemmendorf/
CATEGORIES:Auftritt
END:VEVENT
BEGIN:VEVENT
DTSTART;TZID=Europe/Berlin:20251130T000000
DTEND;TZID=Europe/Berlin:20251130T235959
DTSTAMP:20260420T205720
CREATED:20250730T124322Z
LAST-MODIFIED:20250730T124333Z
UID:1051-1764460800-1764547199@www.mv-hemmendorf.de
SUMMARY:Konzert MV Hemmendorf
DESCRIPTION:Unser jährliches Konzert – erstmals in der neuen Halle in Hemmendorf!
URL:https://www.mv-hemmendorf.de/event/konzert-mv-hemmendorf/
LOCATION:Sport- und Gemeindehalle Hemmendorf\, Nonnenwaldstrasse\, Rottenburg\, 72108\, Germany
CATEGORIES:Auftritt
END:VEVENT
END:VCALENDAR