BEGIN:VCALENDAR
VERSION:2.0
PRODID:-//Musikverein Hemmendorf - ECPv6.15.20//NONSGML v1.0//EN
CALSCALE:GREGORIAN
METHOD:PUBLISH
X-WR-CALNAME:Musikverein Hemmendorf
X-ORIGINAL-URL:https://www.mv-hemmendorf.de
X-WR-CALDESC:Veranstaltungen für Musikverein Hemmendorf
REFRESH-INTERVAL;VALUE=DURATION:PT1H
X-Robots-Tag:noindex
X-PUBLISHED-TTL:PT1H
BEGIN:VTIMEZONE
TZID:Europe/Berlin
BEGIN:DAYLIGHT
TZOFFSETFROM:+0100
TZOFFSETTO:+0200
TZNAME:CEST
DTSTART:20240331T010000
END:DAYLIGHT
BEGIN:STANDARD
TZOFFSETFROM:+0200
TZOFFSETTO:+0100
TZNAME:CET
DTSTART:20241027T010000
END:STANDARD
BEGIN:DAYLIGHT
TZOFFSETFROM:+0100
TZOFFSETTO:+0200
TZNAME:CEST
DTSTART:20250330T010000
END:DAYLIGHT
BEGIN:STANDARD
TZOFFSETFROM:+0200
TZOFFSETTO:+0100
TZNAME:CET
DTSTART:20251026T010000
END:STANDARD
BEGIN:DAYLIGHT
TZOFFSETFROM:+0100
TZOFFSETTO:+0200
TZNAME:CEST
DTSTART:20260329T010000
END:DAYLIGHT
BEGIN:STANDARD
TZOFFSETFROM:+0200
TZOFFSETTO:+0100
TZNAME:CET
DTSTART:20261025T010000
END:STANDARD
END:VTIMEZONE
BEGIN:VEVENT
DTSTART;TZID=Europe/Berlin:20250706T110000
DTEND;TZID=Europe/Berlin:20250706T130000
DTSTAMP:20260421T042412
CREATED:20250531T152702Z
LAST-MODIFIED:20250603T183932Z
UID:822-1751799600-1751806800@www.mv-hemmendorf.de
SUMMARY:Straßenfest Bodelshausen
DESCRIPTION:Musikalische Begleitung.
URL:https://www.mv-hemmendorf.de/event/strassenfest-bodelshausen/
LOCATION:Bodelshausen\, 72411\, Germany
CATEGORIES:Auftritt
ATTACH;FMTTYPE=image/jpeg:https://www.mv-hemmendorf.de/wp-content/uploads/2025/05/img-20230618-wa0033.jpg
END:VEVENT
BEGIN:VEVENT
DTSTART;TZID=Europe/Berlin:20250726T160000
DTEND;TZID=Europe/Berlin:20250726T230000
DTSTAMP:20260421T042412
CREATED:20250603T184325Z
LAST-MODIFIED:20250603T184329Z
UID:893-1753545600-1753570800@www.mv-hemmendorf.de
SUMMARY:Ausflug zur Weiler Burg
DESCRIPTION:Vereinsausflug: Wandern\, Grillen\, Musik machen
URL:https://www.mv-hemmendorf.de/event/ausflug-zur-weiler-burg/
CATEGORIES:Vereinsausflug
END:VEVENT
END:VCALENDAR